BEGIN:VCALENDAR
VERSION:2.0
PRODID:-//Mauldin First Baptist - ECPv6.15.20//NONSGML v1.0//EN
CALSCALE:GREGORIAN
METHOD:PUBLISH
X-WR-CALNAME:Mauldin First Baptist
X-ORIGINAL-URL:https://mauldinfirstbaptist.org
X-WR-CALDESC:Events for Mauldin First Baptist
REFRESH-INTERVAL;VALUE=DURATION:PT1H
X-Robots-Tag:noindex
X-PUBLISHED-TTL:PT1H
BEGIN:VTIMEZONE
TZID:UTC
BEGIN:STANDARD
TZOFFSETFROM:+0000
TZOFFSETTO:+0000
TZNAME:UTC
DTSTART:20250101T000000
END:STANDARD
END:VTIMEZONE
BEGIN:VEVENT
DTSTART;TZID=UTC:20260506T080000
DTEND;TZID=UTC:20260506T110000
DTSTAMP:20260419T195612
CREATED:20260331T173913Z
LAST-MODIFIED:20260331T205208Z
UID:1443-1778054400-1778065200@mauldinfirstbaptist.org
SUMMARY:Senior Adult Fellowship
DESCRIPTION:Join Mauldin First Baptist for our May Sonshine Senior Adult Fellowship\, a joyful outing designed for connection\, good food\, and great company. On May 6\, we will gather for breakfast and enjoy a trip to Strawberry Hill in Chesnee\, SC\, where you can also purchase fresh strawberries and spend time together in a relaxed\, welcoming environment. The group will depart from MFB at 8:00 AM\, with breakfast beginning at 9:00 AM. This is a wonderful opportunity for our senior adults to build community\, share meaningful conversations\, and create lasting memories. Be sure to sign up on the Senior Adult bulletin board to reserve your spot.
URL:https://mauldinfirstbaptist.org/event/senior-adult-fellowship/
ATTACH;FMTTYPE=image/jpeg:https://mauldinfirstbaptist.org/wp-content/uploads/2026/03/Option-1-slide-1.jpg
END:VEVENT
BEGIN:VEVENT
DTSTART;TZID=UTC:20260507T120000
DTEND;TZID=UTC:20260507T140000
DTSTAMP:20260419T195612
CREATED:20260325T162322Z
LAST-MODIFIED:20260325T162322Z
UID:1421-1778155200-1778162400@mauldinfirstbaptist.org
SUMMARY:National Day of Prayer
DESCRIPTION:Join Mauldin First Baptist as we come together for the National Day of Prayer on May 7\, 2026 at 12:00 PM at Mauldin City Hall. This meaningful gathering is an opportunity for our community to unite in faith\, lifting up our nation\, leaders\, families\, and local community in prayer. In a time when hope and unity are needed more than ever\, we invite you to stand with others and seek God together. \nWhether you come on your lunch break or plan to stay and connect with others\, this will be a powerful moment of reflection\, encouragement\, and spiritual renewal. All are welcome to participate as we join voices in prayer and believe for God’s guidance\, peace\, and blessing over our city and our country.
URL:https://mauldinfirstbaptist.org/event/national-day-of-prayer/
ATTACH;FMTTYPE=image/jpeg:https://mauldinfirstbaptist.org/wp-content/uploads/2026/03/National-Day-of-Prayer-Slide_bigger-text.jpg
END:VEVENT
BEGIN:VEVENT
DTSTART;TZID=UTC:20260509T100000
DTEND;TZID=UTC:20260509T130000
DTSTAMP:20260419T195612
CREATED:20260130T174737Z
LAST-MODIFIED:20260130T174737Z
UID:1243-1778320800-1778331600@mauldinfirstbaptist.org
SUMMARY:Car Wash
DESCRIPTION:Mauldin First Baptist Church invites you to support our Latvia mission team at our Latvia Fundraiser Car Wash on May 9 from 10:00 AM to 1:00 PM. This donation-only event is a great opportunity to get your car washed just in time for Mother’s Day while helping fund life-changing ministry overseas. Every gift directly supports our team as they prepare to serve\, share Christ’s love\, and strengthen communities in Latvia. Stop by\, give generously\, and be part of the impact God is making through this mission.
URL:https://mauldinfirstbaptist.org/event/car-wash/
ATTACH;FMTTYPE=image/jpeg:https://mauldinfirstbaptist.org/wp-content/uploads/2026/01/Latvia-Fundraisers-2026-Car-Wash-May-17x11-_page-0001.jpg
END:VEVENT
BEGIN:VEVENT
DTSTART;TZID=UTC:20260516T000000
DTEND;TZID=UTC:20260516T000000
DTSTAMP:20260419T195612
CREATED:20260330T190052Z
LAST-MODIFIED:20260330T190052Z
UID:1434-1778889600-1778889600@mauldinfirstbaptist.org
SUMMARY:Young Adults Gathering
DESCRIPTION:Join Mauldin First Baptist on May 16 for our Young Adults Gathering\, a day designed for connection\, fun\, and refreshing community. Bring your swimsuit and come ready to enjoy a laid-back atmosphere filled with swimming\, kayaking\, yard games\, and plenty of time to relax and build meaningful relationships. Whether you are new or already connected\, this is a great opportunity to meet others in your stage of life and grow together. Be sure to register online or through the Church Center App\, and come ready for a memorable day with friends.
URL:https://mauldinfirstbaptist.org/event/young-adults-gathering/
ATTACH;FMTTYPE=image/jpeg:https://mauldinfirstbaptist.org/wp-content/uploads/2026/03/Option-2-slide-3.jpg
END:VEVENT
BEGIN:VEVENT
DTSTART;TZID=UTC:20260524T103000
DTEND;TZID=UTC:20260524T120000
DTSTAMP:20260419T195612
CREATED:20260407T172735Z
LAST-MODIFIED:20260407T172735Z
UID:1452-1779618600-1779624000@mauldinfirstbaptist.org
SUMMARY:Communion Sunday
DESCRIPTION:Join us at Mauldin First Baptist for a meaningful time of reflection and worship during Communion Sunday on May 24 at 10:30 AM. This special service is an opportunity for our church family to come together in unity as we remember the sacrifice of Jesus Christ and celebrate the grace we have received through Him. Whether you are a regular attendee or visiting for the first time\, you are invited to participate in this sacred moment as we pause\, reflect\, and renew our faith together.
URL:https://mauldinfirstbaptist.org/event/communion-sunday/
ATTACH;FMTTYPE=image/jpeg:https://mauldinfirstbaptist.org/wp-content/uploads/2026/04/Slide-6.jpg
END:VEVENT
BEGIN:VEVENT
DTSTART;TZID=UTC:20260531T113000
DTEND;TZID=UTC:20260531T170000
DTSTAMP:20260419T195612
CREATED:20260409T200031Z
LAST-MODIFIED:20260410T194520Z
UID:1463-1780227000-1780246800@mauldinfirstbaptist.org
SUMMARY:Church Conference
DESCRIPTION:Join us for an important Church Conference as we gather together as a church family to reflect on where we are and look ahead to what God is doing in and through our ministry. \nThis will be a meaningful time of vision\, updates\, and unity as we talk about the future and continue building what God has entrusted to us. \nWhether you’ve been part of the church for years or are newly connected\, your presence matters. Come be informed\, encouraged\, and involved in what’s ahead. \nPlease Note:• For MFB Members Only• No lunch will be served
URL:https://mauldinfirstbaptist.org/event/church-conference/
LOCATION:Fellowship Hall
ATTACH;FMTTYPE=image/jpeg:https://mauldinfirstbaptist.org/wp-content/uploads/2026/04/Church-Conference-for-members-of-MFB-SLIDE-v1.jpg
END:VEVENT
BEGIN:VEVENT
DTSTART;TZID=UTC:20260613T100000
DTEND;TZID=UTC:20260613T130000
DTSTAMP:20260419T195612
CREATED:20260130T174911Z
LAST-MODIFIED:20260130T174911Z
UID:1245-1781344800-1781355600@mauldinfirstbaptist.org
SUMMARY:Car Wash
DESCRIPTION:Mauldin First Baptist Church invites you to be part of our Latvia Fundraiser Car Wash on June 13 from 10:00 AM to 1:00 PM. This donation-only event is a simple and meaningful way to support our mission team as they prepare to serve in Latvia. Stop by to get your car cleaned while investing in life-changing ministry overseas. Every contribution helps equip our team to share hope\, serve communities\, and make a lasting impact. Join us\, bring a friend\, and be part of what God is doing beyond our walls.
URL:https://mauldinfirstbaptist.org/event/car-wash-2/
ATTACH;FMTTYPE=image/jpeg:https://mauldinfirstbaptist.org/wp-content/uploads/2026/01/Latvia-Fundraisers-2026-Car-Wash-June-17x11-_page-0001.jpg
END:VEVENT
BEGIN:VEVENT
DTSTART;VALUE=DATE:20260620
DTEND;VALUE=DATE:20260624
DTSTAMP:20260419T195612
CREATED:20260120T154522Z
LAST-MODIFIED:20260320T205405Z
UID:1210-1781913600-1782259199@mauldinfirstbaptist.org
SUMMARY:Rainforest Falls
DESCRIPTION:Join us for Rainforest Falls from July 20–23\, 2026! Preschool through 5th grade will explore the nature of God through fun\, interactive activities in an exciting rainforest adventure. Don’t miss out—save the date!
URL:https://mauldinfirstbaptist.org/event/rainforest-falls/
LOCATION:Mauldin First Baptist\, 150 S Main St\, Mauldin\, South Carolina 29662
ATTACH;FMTTYPE=image/jpeg:https://mauldinfirstbaptist.org/wp-content/uploads/2026/01/Save-the-Date-Rainforest-Cafe-17x11-1.jpg
END:VEVENT
END:VCALENDAR