BEGIN:VCALENDAR
VERSION:2.0
PRODID:-//Mauldin First Baptist - ECPv6.15.20//NONSGML v1.0//EN
CALSCALE:GREGORIAN
METHOD:PUBLISH
X-WR-CALNAME:Mauldin First Baptist
X-ORIGINAL-URL:https://mauldinfirstbaptist.org
X-WR-CALDESC:Events for Mauldin First Baptist
REFRESH-INTERVAL;VALUE=DURATION:PT1H
X-Robots-Tag:noindex
X-PUBLISHED-TTL:PT1H
BEGIN:VTIMEZONE
TZID:UTC
BEGIN:STANDARD
TZOFFSETFROM:+0000
TZOFFSETTO:+0000
TZNAME:UTC
DTSTART:20250101T000000
END:STANDARD
END:VTIMEZONE
BEGIN:VEVENT
DTSTART;TZID=UTC:20260407T113000
DTEND;TZID=UTC:20260407T140000
DTSTAMP:20260419T151836
CREATED:20260312T171306Z
LAST-MODIFIED:20260312T171306Z
UID:1403-1775561400-1775570400@mauldinfirstbaptist.org
SUMMARY:Sonshine Fellowship
DESCRIPTION:Mauldin First Baptist invites our senior adults to join us for Sonshine Fellowship\, a special outing designed for fellowship\, fun\, and connection. On April 7 from 10:30 AM to 2:00 PM\, we will take a trip together to Leonard’s Farm in Woodruff\, South Carolina\, where participants can enjoy a relaxing day filled with activities such as games\, music\, fishing\, and time with the horses\, along with a delicious boxed lunch. For those who need transportation\, a group will leave from MFB at 10:00 AM. This gathering is a wonderful opportunity for senior adults to spend time together\, enjoy the outdoors\, and strengthen friendships within our church community. Please sign up on the Senior Adult Bulletin Board to reserve your spot.
URL:https://mauldinfirstbaptist.org/event/sonshine-fellowship-3/
ATTACH;FMTTYPE=image/jpeg:https://mauldinfirstbaptist.org/wp-content/uploads/2026/03/Sonshine-Fellowship-Slide-2.jpg
END:VEVENT
END:VCALENDAR