BEGIN:VCALENDAR
VERSION:2.0
PRODID:-//Mauldin First Baptist - ECPv6.15.20//NONSGML v1.0//EN
CALSCALE:GREGORIAN
METHOD:PUBLISH
X-WR-CALNAME:Mauldin First Baptist
X-ORIGINAL-URL:https://mauldinfirstbaptist.org
X-WR-CALDESC:Events for Mauldin First Baptist
REFRESH-INTERVAL;VALUE=DURATION:PT1H
X-Robots-Tag:noindex
X-PUBLISHED-TTL:PT1H
BEGIN:VTIMEZONE
TZID:UTC
BEGIN:STANDARD
TZOFFSETFROM:+0000
TZOFFSETTO:+0000
TZNAME:UTC
DTSTART:20250101T000000
END:STANDARD
END:VTIMEZONE
BEGIN:VEVENT
DTSTART;TZID=UTC:20260405T180000
DTEND;TZID=UTC:20260405T200000
DTSTAMP:20260419T150652
CREATED:20260224T180906Z
LAST-MODIFIED:20260224T180906Z
UID:1356-1775412000-1775419200@mauldinfirstbaptist.org
SUMMARY:A Messy Easter
DESCRIPTION:Mauldin First Baptist invites students in 7th through 12th grades to join us for A Messy Easter on Sunday\, April 5 from 6:00 to 8:00 PM in the Youth Room. This high-energy Easter Sunday youth night will be packed with fun\, laughter\, and unforgettable messy activities\, so come prepared with a change of clothes and ready to jump in. Beyond the excitement\, students will also hear a powerful message reminding us that no matter how messy life can feel\, Jesus makes us clean and gives us new life. Bring a friend and get ready for an Easter celebration you will not want to miss.
URL:https://mauldinfirstbaptist.org/event/a-messy-easter/
ATTACH;FMTTYPE=image/png:https://mauldinfirstbaptist.org/wp-content/uploads/2026/02/A-Messy-Easter-MAULDIN-FIRST-BAPTIST-CHURCH-SLIDE-v1-1.png
END:VEVENT
END:VCALENDAR