BEGIN:VCALENDAR
VERSION:2.0
PRODID:-//Mauldin First Baptist - ECPv6.15.20//NONSGML v1.0//EN
CALSCALE:GREGORIAN
METHOD:PUBLISH
X-ORIGINAL-URL:https://mauldinfirstbaptist.org
X-WR-CALDESC:Events for Mauldin First Baptist
REFRESH-INTERVAL;VALUE=DURATION:PT1H
X-Robots-Tag:noindex
X-PUBLISHED-TTL:PT1H
BEGIN:VTIMEZONE
TZID:UTC
BEGIN:STANDARD
TZOFFSETFROM:+0000
TZOFFSETTO:+0000
TZNAME:UTC
DTSTART:20250101T000000
END:STANDARD
END:VTIMEZONE
BEGIN:VEVENT
DTSTART;TZID=UTC:20260321T190000
DTEND;TZID=UTC:20260321T210000
DTSTAMP:20260425T112828
CREATED:20260126T190712Z
LAST-MODIFIED:20260210T212451Z
UID:1223-1774119600-1774126800@mauldinfirstbaptist.org
SUMMARY:Concert
DESCRIPTION:“In Every Season” is an evening concert of original music written by Alex Warren\, inspired by the Psalms. \nThe Psalms are a reflection of real life. They speak from seasons of joy and gratitude\, grief and anger\, doubt and waiting\, confidence and fear. They give language to the full range of human experience before God\, showing us that faith is not limited to one emotional state or circumstance. \nIn Every Season was chosen because it reflects that truth. No matter what season of life we find ourselves in\, God’s Word remains relevant\, honest\, and sufficient. These songs are inspired by the Psalms because they remind us that God meets us where we are; and that His Word continues to speak with meaning and hope in every season. \nFeaturing: \n\nAlex Warren – vocals / guitar\nJenn Callens – vocals\nSela Estell – vocals\nMax Moore – cajon\nDonnie Coggins – bass\nHowie Ohman – piano\n\nAdmission is free.\nAll donations are appreciated\, and all proceeds will go toward support of the Latvia mission trip.\n Donate here: https://mauldinfirstbaptist.churchcenter.com/giving/to/latvia-mission-trip \nMarch 21\, 2026\n7:00–8:30 PM\nMauldin First Baptist Church
URL:https://mauldinfirstbaptist.org/event/concert/
ATTACH;FMTTYPE=image/jpeg:https://mauldinfirstbaptist.org/wp-content/uploads/2026/01/Latvia-Fundraisers-2026-Slide-Concert.jpg
END:VEVENT
END:VCALENDAR